BEGIN:VCALENDAR

METHOD:PUBLISH
PRODID:-//Typo3 CMS\, News Event Extension

VERSION:2.0


BEGIN:VEVENT
SEQUENCE:0
DTSTART:20200309T183000Z
DTEND:20200309T200000Z
DTSTAMP:20200812T080248Z
SUMMARY:Frankfurter Poetikvorlesungen – Abschlusslesung: Christoph Ransmayr
LOCATION:
DESCRIPTION:Moderation: Jörg Bong
UID:tt_news1736@literaturhaus-frankfurt.de

URL;VALUE=URI:https://literaturhaus-frankfurt.de/https://literaturhaus-frankfurt.de/programm/termine/frankfurter-poetikvorlesungen-abschlusslesung-christoph-ransmayr-2020-03-09/?tx_ttnews%5BbackPid%5D=70
END:VEVENT

END:VCALENDAR