BEGIN:VCALENDAR

METHOD:PUBLISH
PRODID:-//Typo3 CMS\, News Event Extension

VERSION:2.0


BEGIN:VEVENT
SEQUENCE:0
DTSTART:20190605T173000Z
DTEND:20190605T190000Z
DTSTAMP:20200812T080218Z
SUMMARY:Frankfurter HausGespräche
LOCATION:
DESCRIPTION:Mit Deniz Yücel und Doris Akrap\r\nModeration: Martin Wiesmann
UID:tt_news1611@literaturhaus-frankfurt.de

URL;VALUE=URI:https://literaturhaus-frankfurt.de/https://literaturhaus-frankfurt.de/programm/termine/frankfurter-hausgespraeche-2019-06-05/?tx_ttnews%5BbackPid%5D=70
END:VEVENT

END:VCALENDAR