BEGIN:VCALENDAR

METHOD:PUBLISH
PRODID:-//Typo3 CMS\, News Event Extension

VERSION:2.0


BEGIN:VEVENT
SEQUENCE:0
DTSTART:20601125T215800Z
DTEND:20601126T015800Z
DTSTAMP:20200812T080248Z
SUMMARY:Fotowettbewerb: Kind mit Buch
LOCATION:Literaturhaus Frankfurt\, Schöne Aussicht 2\, 60311 Frankfurt am Main
DESCRIPTION:Mitmachen und gewinnen: Fotos von lesenden Kindern gesucht!
UID:tt_news955@literaturhaus-frankfurt.de

URL;VALUE=URI:https://literaturhaus-frankfurt.de/https://literaturhaus-frankfurt.de/programm/termine/fotowettbewerb-kind-mit-buch-2015-06-14/?tx_ttnews%5BbackPid%5D=70
END:VEVENT

END:VCALENDAR