BEGIN:VCALENDAR

METHOD:PUBLISH
PRODID:-//Typo3 CMS\, News Event Extension

VERSION:2.0


BEGIN:VEVENT
SEQUENCE:0
DTSTART:20601225T130000Z
DTEND:20601225T170000Z
DTSTAMP:20200812T080248Z
SUMMARY:Eugen Ruge: Annäherung – Notizen aus 14 Ländern
LOCATION:Literaturhaus Frankfurt\, Schöne Aussicht 2\, 60311 Frankfurt am Main
DESCRIPTION:
UID:tt_news948@literaturhaus-frankfurt.de

URL;VALUE=URI:https://literaturhaus-frankfurt.de/https://literaturhaus-frankfurt.de/programm/termine/eugen-ruge-annaeherung-notizen-aus-14-laendern-2015-06-29/?tx_ttnews%5BbackPid%5D=70
END:VEVENT

END:VCALENDAR