BEGIN:VCALENDAR

METHOD:PUBLISH
PRODID:-//Typo3 CMS\, News Event Extension

VERSION:2.0


BEGIN:VEVENT
SEQUENCE:0
DTSTART:20200319T083000Z
DTEND:20200319T123000Z
DTSTAMP:20200812T080218Z
SUMMARY:Entfällt! WÖRTERMEER
LOCATION:
DESCRIPTION:Comic-Workshop mit Ferdinand Lutz für 5. und 6. Klassen
UID:tt_news1704@literaturhaus-frankfurt.de

URL;VALUE=URI:https://literaturhaus-frankfurt.de/https://literaturhaus-frankfurt.de/programm/termine/entfaellt-woertermeer-2020-03-19/?tx_ttnews%5BbackPid%5D=70
END:VEVENT

END:VCALENDAR