BEGIN:VCALENDAR

METHOD:PUBLISH
PRODID:-//Typo3 CMS\, News Event Extension

VERSION:2.0


BEGIN:VEVENT
SEQUENCE:0
DTSTART:20200310T183000Z
DTEND:20200310T200000Z
DTSTAMP:20200812T080248Z
SUMMARY:Entfällt! Sigrid Nunez: Der Freund
LOCATION:
DESCRIPTION:Moderation (dt./engl.): Alf Mentzer (hr2-kultur)\r\nLesung deutscher Text: Anna Böger
UID:tt_news1737@literaturhaus-frankfurt.de

URL;VALUE=URI:https://literaturhaus-frankfurt.de/https://literaturhaus-frankfurt.de/programm/termine/entfaellt-sigrid-nunez-der-freund-2020-03-10/?tx_ttnews%5BbackPid%5D=70
END:VEVENT

END:VCALENDAR