BEGIN:VCALENDAR

METHOD:PUBLISH
PRODID:-//Typo3 CMS\, News Event Extension

VERSION:2.0


BEGIN:VEVENT
SEQUENCE:0
DTSTART:20200316T153000Z
DTEND:20200316T170000Z
DTSTAMP:20200812T080248Z
SUMMARY:Entfällt! Bart Moeyaert: Bianca
LOCATION:
DESCRIPTION:Lesung in deutscher Sprache für alle ab 11 Jahren
UID:tt_news1738@literaturhaus-frankfurt.de

URL;VALUE=URI:https://literaturhaus-frankfurt.de/https://literaturhaus-frankfurt.de/programm/termine/entfaellt-bart-moeyaert-bianca-2020-03-16/?tx_ttnews%5BbackPid%5D=70
END:VEVENT

END:VCALENDAR