BEGIN:VCALENDAR

METHOD:PUBLISH
PRODID:-//Typo3 CMS\, News Event Extension

VERSION:2.0


BEGIN:VEVENT
SEQUENCE:0
DTSTART:20590618T130000Z
DTEND:20590618T170000Z
DTSTAMP:20200812T080248Z
SUMMARY:Dominik Graf: Die geliebten Schwestern – Schiller in Love 
LOCATION:Literaturhaus Frankfurt\, Schöne Aussicht 2\, 60311 Frankfurt am Main
DESCRIPTION:Nominiert für den Auslands-Oscar 2015\r\nModeration: Verena Lueken (F.A.Z.)
UID:tt_news831@literaturhaus-frankfurt.de

URL;VALUE=URI:https://literaturhaus-frankfurt.de/https://literaturhaus-frankfurt.de/programm/termine/dominik-graf-die-geliebten-schwestern-schiller-in-love-2014-09-24/?tx_ttnews%5BbackPid%5D=70
END:VEVENT

END:VCALENDAR