BEGIN:VCALENDAR

METHOD:PUBLISH
PRODID:-//Typo3 CMS\, News Event Extension

VERSION:2.0


BEGIN:VEVENT
SEQUENCE:0
DTSTART:20190617T173000Z
DTEND:20190617T190000Z
DTSTAMP:20200812T080218Z
SUMMARY:Das gezeichnete Ich. Texte vom Dasein und Vergehen
LOCATION:
DESCRIPTION:Alice von Lindenau\, Peter Schröder und Hauke Hückstädt
UID:tt_news1595@literaturhaus-frankfurt.de

URL;VALUE=URI:https://literaturhaus-frankfurt.de/https://literaturhaus-frankfurt.de/programm/termine/das-gezeichnete-ich-texte-vom-dasein-und-vergehen-2019-06-17/?tx_ttnews%5BbackPid%5D=70
END:VEVENT

END:VCALENDAR