BEGIN:VCALENDAR

METHOD:PUBLISH
PRODID:-//Typo3 CMS\, News Event Extension

VERSION:2.0


BEGIN:VEVENT
SEQUENCE:0
DTSTART:20610112T130000Z
DTEND:20610112T170000Z
DTSTAMP:20200812T080248Z
SUMMARY:Clemens Meyer: Frankfurter Poetikdozentur – Abschlusslesung 
LOCATION:Literaturhaus Frankfurt\, Schöne Aussicht 2\, 60311 Frankfurt am Main
DESCRIPTION:Moderation: Petra Gropp (S. Fischer) 
UID:tt_news951@literaturhaus-frankfurt.de

URL;VALUE=URI:https://literaturhaus-frankfurt.de/https://literaturhaus-frankfurt.de/programm/termine/clemens-meyer-frankfurter-poetikdozentur-abschlusslesung-2015-07-08/?tx_ttnews%5BbackPid%5D=70
END:VEVENT

END:VCALENDAR