BEGIN:VCALENDAR

METHOD:PUBLISH
PRODID:-//Typo3 CMS\, News Event Extension

VERSION:2.0


BEGIN:VEVENT
SEQUENCE:0
DTSTART:20600918T130000Z
DTEND:20600918T170000Z
DTSTAMP:20200812T080218Z
SUMMARY:Claus Leggewie: Politische Zeiten
LOCATION:Literaturhaus Frankfurt\, Schöne Aussicht 2\, 60311 Frankfurt am Main
DESCRIPTION:Randbetrachtung als Autobiografie
UID:tt_news936@literaturhaus-frankfurt.de

URL;VALUE=URI:https://literaturhaus-frankfurt.de/https://literaturhaus-frankfurt.de/programm/termine/claus-leggewie-politische-zeiten-2015-05-11/?tx_ttnews%5BbackPid%5D=70
END:VEVENT

END:VCALENDAR