BEGIN:VCALENDAR

METHOD:PUBLISH
PRODID:-//Typo3 CMS\, News Event Extension

VERSION:2.0


BEGIN:VEVENT
SEQUENCE:0
DTSTART:20190614T173000Z
DTEND:20190614T190000Z
DTSTAMP:20200812T080218Z
SUMMARY:Buchpremiere! Fundus. Das Buch vom Verlag der Autoren 1969 - 2019
LOCATION:
DESCRIPTION:Mit Matthias Altenburg\, Ursula Krechel\, Dea Loher\, Kristof Magnusson\, Sasha Marianna Salzmann\, Wim Wenders\, u.v.m.\r\nModeration: Michael Quast
UID:tt_news1614@literaturhaus-frankfurt.de

URL;VALUE=URI:https://literaturhaus-frankfurt.de/https://literaturhaus-frankfurt.de/programm/termine/buchpremiere-fundus-das-buch-vom-verlag-der-autoren-1969-2019-2019-06-14/?tx_ttnews%5BbackPid%5D=70
END:VEVENT

END:VCALENDAR