BEGIN:VCALENDAR

METHOD:PUBLISH
PRODID:-//Typo3 CMS\, News Event Extension

VERSION:2.0


BEGIN:VEVENT
SEQUENCE:0
DTSTART:20590630T130000Z
DTEND:20590630T170000Z
DTSTAMP:20200812T080248Z
SUMMARY:Buchpremiere: Bodo Kirchhoff: Verlangen und Melancholie
LOCATION:Literaturhaus Frankfurt\, Schöne Aussicht 2\, 60311 Frankfurt am Main
DESCRIPTION:Im Gespräch mit der Autorin Eva Demski
UID:tt_news850@literaturhaus-frankfurt.de

URL;VALUE=URI:https://literaturhaus-frankfurt.de/https://literaturhaus-frankfurt.de/programm/termine/buchpremiere-bodo-kirchhoff-verlangen-und-melancholie-2014-09-30/?tx_ttnews%5BbackPid%5D=70
END:VEVENT

END:VCALENDAR