BEGIN:VCALENDAR

METHOD:PUBLISH
PRODID:-//Typo3 CMS\, News Event Extension

VERSION:2.0


BEGIN:VEVENT
SEQUENCE:0
DTSTART:20190603T160000Z
DTEND:20190603T190000Z
DTSTAMP:20200812T080248Z
SUMMARY:Besuch in der Stadtbücherei Frankfurt
LOCATION:
DESCRIPTION:Exklusiv für Mitglieder\r\nTreffpunkt: Stadtbücherei Frankfurt
UID:tt_news1610@literaturhaus-frankfurt.de

URL;VALUE=URI:https://literaturhaus-frankfurt.de/https://literaturhaus-frankfurt.de/programm/termine/besuch-in-der-stadtbuecherei-frankfurt-2019-06-03/?tx_ttnews%5BbackPid%5D=70
END:VEVENT

END:VCALENDAR