BEGIN:VCALENDAR

METHOD:PUBLISH
PRODID:-//Typo3 CMS\, News Event Extension

VERSION:2.0


BEGIN:VEVENT
SEQUENCE:0
DTSTART:20601008T130000Z
DTEND:20601008T170000Z
DTSTAMP:20200812T080248Z
SUMMARY:Barbara Yelin & Lewis Trondheim
LOCATION:Literaturhaus Frankfurt\, Schöne Aussicht 2\, 60311 Frankfurt am Main
DESCRIPTION:Ein Comic-Abend in zwei Teilen mit Pause
UID:tt_news939@literaturhaus-frankfurt.de

URL;VALUE=URI:https://literaturhaus-frankfurt.de/https://literaturhaus-frankfurt.de/programm/termine/barbara-yelin-lewis-trondheim-2015-05-21/?tx_ttnews%5BbackPid%5D=70
END:VEVENT

END:VCALENDAR