BEGIN:VCALENDAR

METHOD:PUBLISH
PRODID:-//Typo3 CMS\, News Event Extension

VERSION:2.0


BEGIN:VEVENT
SEQUENCE:0
DTSTART:20601009T190000Z
DTEND:20601009T230000Z
DTSTAMP:20200812T080218Z
SUMMARY:Barbara Yelin erzählt von „Irmina“
LOCATION:Literaturhaus Frankfurt\, Schöne Aussicht 2\, 60311 Frankfurt am Main
DESCRIPTION:Lesung für Schüler ab 10. Klasse
UID:tt_news898@literaturhaus-frankfurt.de

URL;VALUE=URI:https://literaturhaus-frankfurt.de/https://literaturhaus-frankfurt.de/programm/termine/barbara-yelin-erzaehlt-von-irmina-2015-05-22/?tx_ttnews%5BbackPid%5D=70
END:VEVENT

END:VCALENDAR