BEGIN:VCALENDAR

METHOD:PUBLISH
PRODID:-//Typo3 CMS\, News Event Extension

VERSION:2.0


BEGIN:VEVENT
SEQUENCE:0
DTSTART:20601201T160000Z
DTEND:20601201T200000Z
DTSTAMP:20200812T080248Z
SUMMARY:Aufzug mit Dame: Carolin Callies\, Tadeusz Dabrowski\, Marcus Roloff und Volker Sielaff
LOCATION:Literaturhaus Frankfurt\, Schöne Aussicht 2\, 60311 Frankfurt am Main
DESCRIPTION:Einführungen: Michael Braun und Jan Wilm\r\nIm Rahmen der „Frankfurter Lyriktage“
UID:tt_news944@literaturhaus-frankfurt.de

URL;VALUE=URI:https://literaturhaus-frankfurt.de/https://literaturhaus-frankfurt.de/programm/termine/aufzug-mit-dame-carolin-callies-tadeusz-dabrowski-marcus-roloff-und-volker-sielaff-2015-06-17/?tx_ttnews%5BbackPid%5D=70
END:VEVENT

END:VCALENDAR