BEGIN:VCALENDAR

METHOD:PUBLISH
PRODID:-//Typo3 CMS\, News Event Extension

VERSION:2.0


BEGIN:VEVENT
SEQUENCE:0
DTSTART:20200304T183000Z
DTEND:20200304T200000Z
DTSTAMP:20200812T080218Z
SUMMARY:Arte-Filmpremiere: Friedrich Hölderlin: Dichter sein. Unbedingt!
LOCATION:
DESCRIPTION:
UID:tt_news1734@literaturhaus-frankfurt.de

URL;VALUE=URI:https://literaturhaus-frankfurt.de/https://literaturhaus-frankfurt.de/programm/termine/arte-filmpremiere-friedrich-hoelderlin-dichter-sein-unbedingt-2020-03-04/?tx_ttnews%5BbackPid%5D=70
END:VEVENT

END:VCALENDAR