BEGIN:VCALENDAR

METHOD:PUBLISH
PRODID:-//Typo3 CMS\, News Event Extension

VERSION:2.0


BEGIN:VEVENT
SEQUENCE:0
DTSTART:20601028T040000Z
DTEND:20601028T080000Z
DTSTAMP:20200812T080218Z
SUMMARY:Antje Damm – Der Besuch und andere Geschichten
LOCATION:Literaturhaus Frankfurt\, Schöne Aussicht 2\, 60311 Frankfurt am Main
DESCRIPTION:Denn Besuch bringt Farbe ins Leben\r\nKinderbuch-Sonntag ab 5 Jahren\r\n 
UID:tt_news899@literaturhaus-frankfurt.de

URL;VALUE=URI:https://literaturhaus-frankfurt.de/https://literaturhaus-frankfurt.de/programm/termine/antje-damm-der-besuch-und-andere-geschichten-2015-05-31/?tx_ttnews%5BbackPid%5D=70
END:VEVENT

END:VCALENDAR