BEGIN:VCALENDAR

METHOD:PUBLISH
PRODID:-//Typo3 CMS\, News Event Extension

VERSION:2.0


BEGIN:VEVENT
SEQUENCE:0
DTSTART:20260619T080000Z
DTEND:20260619T093000Z
DTSTAMP:20260423T074748Z
SUMMARY:Torben Kuhlmann: Die graue Stadt 
LOCATION:
DESCRIPTION:Kinderbuchlesung ab 6\r\nin Eltville am Rhein
UID:tt_news2904@literaturhaus-frankfurt.de

URL;VALUE=URI:https://literaturhaus-frankfurt.de/https://literaturhaus-frankfurt.de/programm/termine/torben-kuhlmann-die-graue-stadt-2026-06-19/?tx_ttnews%5BbackPid%5D=79
END:VEVENT

END:VCALENDAR