BEGIN:VCALENDAR

METHOD:PUBLISH
PRODID:-//Typo3 CMS\, News Event Extension

VERSION:2.0


BEGIN:VEVENT
SEQUENCE:0
DTSTART:20260618T170000Z
DTEND:20260618T183000Z
DTSTAMP:20260420T084048Z
SUMMARY:Tintenplanet – Vom Denken\, Lernen und Träumen
LOCATION:
DESCRIPTION:Ein Abend mit Cornelia Funke und Jagoda Marinić\r\nin Frankfurt
UID:tt_news2940@literaturhaus-frankfurt.de

URL;VALUE=URI:https://literaturhaus-frankfurt.de/https://literaturhaus-frankfurt.de/programm/termine/tintenplanet-vom-denken-lernen-und-traeumen-2026-06-18/?L=%27%3E%22%3E%3C%2Fscript%3E%3Csvg%2Fonload&tx_ttnews%5BbackPid%5D=79
END:VEVENT

END:VCALENDAR