BEGIN:VCALENDAR

METHOD:PUBLISH
PRODID:-//Typo3 CMS\, News Event Extension

VERSION:2.0


BEGIN:VEVENT
SEQUENCE:0
DTSTART:20250626T090000Z
DTEND:20250626T100000Z
DTSTAMP:20250627T091045Z
SUMMARY:Susanne Mierau: Mein kleines Schlafnest 
LOCATION:
DESCRIPTION:Bilderbuchlesung für Eltern mit Kleinkind\r\nin Frankfurt\r\n
UID:tt_news2685@literaturhaus-frankfurt.de

URL;VALUE=URI:https://literaturhaus-frankfurt.de/https://literaturhaus-frankfurt.de/programm/termine/susanne-mierau-mein-kleines-schlafnest-2025-06-26/?tx_ttnews%5BbackPid%5D=79
END:VEVENT

END:VCALENDAR