BEGIN:VCALENDAR

METHOD:PUBLISH
PRODID:-//Typo3 CMS\, News Event Extension

VERSION:2.0


BEGIN:VEVENT
SEQUENCE:0
DTSTART:20250627T150000Z
DTEND:20250627T160000Z
DTSTAMP:20250630T085744Z
SUMMARY:Susan Kreller: Das Herz von Kamp-Cornell&nbsp\;
LOCATION:
DESCRIPTION:Jugendbuchlesung ab 13 \r\nin Frankfurt\r\nEintritt nach Anmeldung frei 
UID:tt_news2708@literaturhaus-frankfurt.de

URL;VALUE=URI:https://literaturhaus-frankfurt.de/https://literaturhaus-frankfurt.de/programm/termine/susan-kreller-das-herz-von-kamp-cornell-nbsp-2025-06-27/?tx_ttnews%5BbackPid%5D=79
END:VEVENT

END:VCALENDAR