BEGIN:VCALENDAR

METHOD:PUBLISH
PRODID:-//Typo3 CMS\, News Event Extension

VERSION:2.0


BEGIN:VEVENT
SEQUENCE:0
DTSTART:20250626T071500Z
DTEND:20250626T081500Z
DTSTAMP:20250627T093248Z
SUMMARY:Susan Kreller: Das Herz von Kamp-Cornell 
LOCATION:
DESCRIPTION:Schulveranstaltung \r\n
UID:tt_news2678@literaturhaus-frankfurt.de

URL;VALUE=URI:https://literaturhaus-frankfurt.de/https://literaturhaus-frankfurt.de/programm/termine/susan-kreller-das-herz-von-kamp-cornell-2025-06-26/?tx_ttnews%5BbackPid%5D=79
END:VEVENT

END:VCALENDAR