BEGIN:VCALENDAR

METHOD:PUBLISH
PRODID:-//Typo3 CMS\, News Event Extension

VERSION:2.0


BEGIN:VEVENT
SEQUENCE:0
DTSTART:20260615T140000Z
DTEND:20260615T153000Z
DTSTAMP:20260420T064406Z
SUMMARY:Stephanie Schneider: Grimm & Möhrchen
LOCATION:
DESCRIPTION:Kinderbuchlesung ab 5\r\nin Frankfurt
UID:tt_news2901@literaturhaus-frankfurt.de

URL;VALUE=URI:https://literaturhaus-frankfurt.de/https://literaturhaus-frankfurt.de/programm/termine/stephanie-schneider-grimm-moehrchen-2026-06-15/?L=%27%3E%22%3E%3C%2Fscript%3E%3Csvg%2Fonload&tx_ttnews%5BbackPid%5D=79
END:VEVENT

END:VCALENDAR