BEGIN:VCALENDAR

METHOD:PUBLISH
PRODID:-//Typo3 CMS\, News Event Extension

VERSION:2.0


BEGIN:VEVENT
SEQUENCE:0
DTSTART:20250626T083000Z
DTEND:20250626T093000Z
DTSTAMP:20250627T092956Z
SUMMARY:Stephan Knösel: Behalt dein Herz. Ihr könnt mich mal.&nbsp\;
LOCATION:
DESCRIPTION:Kinderbuchlesung ab Klasse 6\r\nin Offenbach
UID:tt_news2675@literaturhaus-frankfurt.de

URL;VALUE=URI:https://literaturhaus-frankfurt.de/https://literaturhaus-frankfurt.de/programm/termine/stephan-knoesel-behalt-dein-herz-ihr-koennt-mich-mal-nbsp-2025-06-26/?tx_ttnews%5BbackPid%5D=79
END:VEVENT

END:VCALENDAR