BEGIN:VCALENDAR

METHOD:PUBLISH
PRODID:-//Typo3 CMS\, News Event Extension

VERSION:2.0


BEGIN:VEVENT
SEQUENCE:0
DTSTART:20250626T063000Z
DTEND:20250626T073000Z
DTSTAMP:20250627T092618Z
SUMMARY:Stephan Knösel: Behalt dein Herz. Ihr könnt mich mal.  
LOCATION:
DESCRIPTION:Jugendbuchlesung ab Klasse 6\r\nin Offenbach
UID:tt_news2674@literaturhaus-frankfurt.de

URL;VALUE=URI:https://literaturhaus-frankfurt.de/https://literaturhaus-frankfurt.de/programm/termine/stephan-knoesel-behalt-dein-herz-ihr-koennt-mich-mal-2025-06-26/?tx_ttnews%5BbackPid%5D=79
END:VEVENT

END:VCALENDAR