BEGIN:VCALENDAR

METHOD:PUBLISH
PRODID:-//Typo3 CMS\, News Event Extension

VERSION:2.0


BEGIN:VEVENT
SEQUENCE:0
DTSTART:20250627T083000Z
DTEND:20250627T090000Z
DTSTAMP:20250630T085812Z
SUMMARY:Silke Schellhammer: School of Talents&nbsp\;
LOCATION:
DESCRIPTION:Kinderbuchlesung ab 8\r\nin Flörsheim
UID:tt_news2700@literaturhaus-frankfurt.de

URL;VALUE=URI:https://literaturhaus-frankfurt.de/https://literaturhaus-frankfurt.de/programm/termine/silke-schellhammer-school-of-talents-nbsp-2025-06-27/?tx_ttnews%5BbackPid%5D=79
END:VEVENT

END:VCALENDAR