BEGIN:VCALENDAR

METHOD:PUBLISH
PRODID:-//Typo3 CMS\, News Event Extension

VERSION:2.0


BEGIN:VEVENT
SEQUENCE:0
DTSTART:20250626T130000Z
DTEND:20250626T140000Z
DTSTAMP:20250627T091935Z
SUMMARY:Silke Schellhammer: School of Talents&nbsp\;
LOCATION:
DESCRIPTION:Kinderbuchlesung ab 8 \r\nin Frankfurt\r\nEintritt nach Anmeldung frei 
UID:tt_news2689@literaturhaus-frankfurt.de

URL;VALUE=URI:https://literaturhaus-frankfurt.de/https://literaturhaus-frankfurt.de/programm/termine/silke-schellhammer-school-of-talents-nbsp-2025-06-26/?tx_ttnews%5BbackPid%5D=79
END:VEVENT

END:VCALENDAR