BEGIN:VCALENDAR

METHOD:PUBLISH
PRODID:-//Typo3 CMS\, News Event Extension

VERSION:2.0


BEGIN:VEVENT
SEQUENCE:0
DTSTART:20250627T160000Z
DTEND:20250627T180000Z
DTSTAMP:20250205T092925Z
SUMMARY:SEXYUNDERGROUND
LOCATION:
DESCRIPTION:Treffen im Untergrund
UID:tt_news2572@literaturhaus-frankfurt.de

URL;VALUE=URI:https://literaturhaus-frankfurt.de/https://literaturhaus-frankfurt.de/programm/termine/sexyunderground-2025-06-27/?tx_ttnews%5BbackPid%5D=79
END:VEVENT

END:VCALENDAR