BEGIN:VCALENDAR

METHOD:PUBLISH
PRODID:-//Typo3 CMS\, News Event Extension

VERSION:2.0


BEGIN:VEVENT
SEQUENCE:0
DTSTART:20250328T170000Z
DTEND:20250328T190000Z
DTSTAMP:20250205T092556Z
SUMMARY:SEXYUNDERGROUND
LOCATION:
DESCRIPTION:Treffen im Untergrund
UID:tt_news2569@literaturhaus-frankfurt.de

URL;VALUE=URI:https://literaturhaus-frankfurt.de/https://literaturhaus-frankfurt.de/programm/termine/sexyunderground-2025-03-28/?tx_ttnews%5BbackPid%5D=79
END:VEVENT

END:VCALENDAR