BEGIN:VCALENDAR

METHOD:PUBLISH
PRODID:-//Typo3 CMS\, News Event Extension

VERSION:2.0


BEGIN:VEVENT
SEQUENCE:0
DTSTART:20250110T170000Z
DTEND:20250110T190000Z
DTSTAMP:20241028T092829Z
SUMMARY:SEXYUNDERGROUND
LOCATION:
DESCRIPTION:Online-Treffen im Untergrund
UID:tt_news2514@literaturhaus-frankfurt.de

URL;VALUE=URI:https://literaturhaus-frankfurt.de/https://literaturhaus-frankfurt.de/programm/termine/sexyunderground-2025-01-10/?tx_ttnews%5BbackPid%5D=79
END:VEVENT

END:VCALENDAR