BEGIN:VCALENDAR

METHOD:PUBLISH
PRODID:-//Typo3 CMS\, News Event Extension

VERSION:2.0


BEGIN:VEVENT
SEQUENCE:0
DTSTART:20260205T183000Z
DTEND:20260205T200000Z
DTSTAMP:20251219T092928Z
SUMMARY:Schreibzimmer 2025: Abschlusslesung mit den Nachwuchsautor:innen
LOCATION:
DESCRIPTION:Hybridveranstaltung\r\nmit Chantal-Fleur Sandjon und Tania Witte
UID:tt_news2814@literaturhaus-frankfurt.de

URL;VALUE=URI:https://literaturhaus-frankfurt.de/https://literaturhaus-frankfurt.de/programm/termine/schreibzimmer-2025-abschlusslesung-mit-den-nachwuchsautorinnen-2026-02-05/?tx_ttnews%5BbackPid%5D=79
END:VEVENT

END:VCALENDAR