BEGIN:VCALENDAR

METHOD:PUBLISH
PRODID:-//Typo3 CMS\, News Event Extension

VERSION:2.0


BEGIN:VEVENT
SEQUENCE:0
DTSTART:20260618T133000Z
DTEND:20260618T150000Z
DTSTAMP:20260420T065236Z
SUMMARY:Sarah Jäger: Schreibwerkstatt
LOCATION:
DESCRIPTION:Workshop von 12 bis 16\r\nin Flörsheim\r\nEintritt nach Anmeldung frei 
UID:tt_news2979@literaturhaus-frankfurt.de

URL;VALUE=URI:https://literaturhaus-frankfurt.de/https://literaturhaus-frankfurt.de/programm/termine/sarah-jaeger-schreibwerkstatt-2026-06-18/?tx_ttnews%5BbackPid%5D=79
END:VEVENT

END:VCALENDAR