BEGIN:VCALENDAR

METHOD:PUBLISH
PRODID:-//Typo3 CMS\, News Event Extension

VERSION:2.0


BEGIN:VEVENT
SEQUENCE:0
DTSTART:20260618T080000Z
DTEND:20260618T093000Z
DTSTAMP:20260422T145900Z
SUMMARY:Salah Naoura: Der Junge\, der auf ein Haus stieg 
LOCATION:
DESCRIPTION:Jugendbuchlesung ab Klasse 8 \r\nin Hanau
UID:tt_news2976@literaturhaus-frankfurt.de

URL;VALUE=URI:https://literaturhaus-frankfurt.de/https://literaturhaus-frankfurt.de/programm/termine/salah-naoura-der-junge-der-auf-ein-haus-stieg-2026-06-18/?tx_ttnews%5BbackPid%5D=79
END:VEVENT

END:VCALENDAR