BEGIN:VCALENDAR

METHOD:PUBLISH
PRODID:-//Typo3 CMS\, News Event Extension

VERSION:2.0


BEGIN:VEVENT
SEQUENCE:0
DTSTART:20260206T160000Z
DTEND:20260206T173000Z
DTSTAMP:20260209T093053Z
SUMMARY:Regina Kehn: Einmal kurz nicht aufgepasst!
LOCATION:
DESCRIPTION:Kindercomiclesung ab 6 Jahren\r\nMit Guillaume Perreault und Axel Scheffler\r\n
UID:tt_news2817@literaturhaus-frankfurt.de

URL;VALUE=URI:https://literaturhaus-frankfurt.de/https://literaturhaus-frankfurt.de/programm/termine/regina-kehn-einmal-kurz-nicht-aufgepasst-2026-02-06/?tx_ttnews%5BbackPid%5D=79
END:VEVENT

END:VCALENDAR