BEGIN:VCALENDAR

METHOD:PUBLISH
PRODID:-//Typo3 CMS\, News Event Extension

VERSION:2.0


BEGIN:VEVENT
SEQUENCE:0
DTSTART:20250626T170000Z
DTEND:20250626T183000Z
DTSTAMP:20250627T092601Z
SUMMARY:Paul Maar: Lorna 
LOCATION:
DESCRIPTION:mit Musiker Wolfgang Stute\r\nin Frankfurt
UID:tt_news2695@literaturhaus-frankfurt.de

URL;VALUE=URI:https://literaturhaus-frankfurt.de/https://literaturhaus-frankfurt.de/programm/termine/paul-maar-lorna-2025-06-26/?tx_ttnews%5BbackPid%5D=79
END:VEVENT

END:VCALENDAR