BEGIN:VCALENDAR

METHOD:PUBLISH
PRODID:-//Typo3 CMS\, News Event Extension

VERSION:2.0


BEGIN:VEVENT
SEQUENCE:0
DTSTART:20260617T090000Z
DTEND:20260617T103000Z
DTSTAMP:20260416T111607Z
SUMMARY:Moni Port & Claudia Weikert: Shrimpie & ich 
LOCATION:
DESCRIPTION:Comic-Nachmittag ab 6 Jahren\r\nin Frankfurt
UID:tt_news2892@literaturhaus-frankfurt.de

URL;VALUE=URI:https://literaturhaus-frankfurt.de/https://literaturhaus-frankfurt.de/programm/termine/moni-port-claudia-weikert-shrimpie-ich-2026-06-17/?L=%27%3E%22%3E%3C%2Fscript%3E%3Csvg%2Fonload&tx_ttnews%5BbackPid%5D=79
END:VEVENT

END:VCALENDAR