BEGIN:VCALENDAR

METHOD:PUBLISH
PRODID:-//Typo3 CMS\, News Event Extension

VERSION:2.0


BEGIN:VEVENT
SEQUENCE:0
DTSTART:20260617T070000Z
DTEND:20260617T083000Z
DTSTAMP:20260417T122324Z
SUMMARY:Massuda Kassem: Chicken Survivor 
LOCATION:
DESCRIPTION:Kinderbuchlesung ab Klasse 1\r\nin Frankfurt\r\nEintritt nach Anmeldung frei
UID:tt_news2982@literaturhaus-frankfurt.de

URL;VALUE=URI:https://literaturhaus-frankfurt.de/https://literaturhaus-frankfurt.de/programm/termine/massuda-kassem-chicken-survivor-2026-06-17/?L=%27%3E%22%3E%3C%2Fscript%3E%3Csvg%2Fonload&tx_ttnews%5BbackPid%5D=79
END:VEVENT

END:VCALENDAR