BEGIN:VCALENDAR

METHOD:PUBLISH
PRODID:-//Typo3 CMS\, News Event Extension

VERSION:2.0


BEGIN:VEVENT
SEQUENCE:0
DTSTART:20250627T064000Z
DTEND:20250627T080000Z
DTSTAMP:20250630T085838Z
SUMMARY:Martin Baltscheit: Rolf & Rose 
LOCATION:
DESCRIPTION:Schulveranstaltung 
UID:tt_news2698@literaturhaus-frankfurt.de

URL;VALUE=URI:https://literaturhaus-frankfurt.de/https://literaturhaus-frankfurt.de/programm/termine/martin-baltscheit-rolf-rose-2025-06-27/?tx_ttnews%5BbackPid%5D=79
END:VEVENT

END:VCALENDAR