BEGIN:VCALENDAR

METHOD:PUBLISH
PRODID:-//Typo3 CMS\, News Event Extension

VERSION:2.0


BEGIN:VEVENT
SEQUENCE:0
DTSTART:20260614T150000Z
DTEND:20260614T163000Z
DTSTAMP:20260420T064329Z
SUMMARY:Margit Auer: Die Schule der magischen Tiere – Land unter! (Band 16)
LOCATION:
DESCRIPTION:Kinderbuchlesung ab 8\r\nin Frankfurt
UID:tt_news2897@literaturhaus-frankfurt.de

URL;VALUE=URI:https://literaturhaus-frankfurt.de/https://literaturhaus-frankfurt.de/programm/termine/margit-auer-die-schule-der-magischen-tiere-land-unter-band-16-2026-06-14/?L=%27%3E%22%3E%3C%2Fscript%3E%3Csvg%2Fonload&tx_ttnews%5BbackPid%5D=79
END:VEVENT

END:VCALENDAR