BEGIN:VCALENDAR

METHOD:PUBLISH
PRODID:-//Typo3 CMS\, News Event Extension

VERSION:2.0


BEGIN:VEVENT
SEQUENCE:0
DTSTART:20260615T080000Z
DTEND:20260615T093000Z
DTSTAMP:20260421T113326Z
SUMMARY:Lilli L’Arronge: Familie Kackwurst & Familienbande
LOCATION:
DESCRIPTION:Bilderbuchlesung ab 3\r\nin Walluf\r\nEintritt nach Anmeldung frei
UID:tt_news2906@literaturhaus-frankfurt.de

URL;VALUE=URI:https://literaturhaus-frankfurt.de/https://literaturhaus-frankfurt.de/programm/termine/lilli-larronge-familie-kackwurst-familienbande-2026-06-15/?L=%27%3E%22%3E%3C%2Fscript%3E%3Csvg%2Fonload&tx_ttnews%5BbackPid%5D=79
END:VEVENT

END:VCALENDAR