BEGIN:VCALENDAR

METHOD:PUBLISH
PRODID:-//Typo3 CMS\, News Event Extension

VERSION:2.0


BEGIN:VEVENT
SEQUENCE:0
DTSTART:20250626T093000Z
DTEND:20250626T103000Z
DTSTAMP:20250627T093059Z
SUMMARY:Lena Anlauf & Vitali Konstantinov: Geniale Augen&nbsp\;
LOCATION:
DESCRIPTION:Sachbuchlesung ab Klasse 2  \r\nin Frankfurt\r\nEintritt nach Anmeldung frei
UID:tt_news2686@literaturhaus-frankfurt.de

URL;VALUE=URI:https://literaturhaus-frankfurt.de/https://literaturhaus-frankfurt.de/programm/termine/lena-anlauf-vitali-konstantinov-geniale-augen-nbsp-2025-06-26/?tx_ttnews%5BbackPid%5D=79
END:VEVENT

END:VCALENDAR