BEGIN:VCALENDAR

METHOD:PUBLISH
PRODID:-//Typo3 CMS\, News Event Extension

VERSION:2.0


BEGIN:VEVENT
SEQUENCE:0
DTSTART:20260619T080000Z
DTEND:20260619T093000Z
DTSTAMP:20260420T092410Z
SUMMARY:Katja Spitzer: Genial! 16 Erfinderinnen und ihre Geschichten 
LOCATION:
DESCRIPTION:Sachbuchlesung ab Klasse 3\r\nin Offenbach
UID:tt_news2955@literaturhaus-frankfurt.de

URL;VALUE=URI:https://literaturhaus-frankfurt.de/https://literaturhaus-frankfurt.de/programm/termine/katja-spitzer-genial-16-erfinderinnen-und-ihre-geschichten-2026-06-19/?L=%27%3E%22%3E%3C%2Fscript%3E%3Csvg%2Fonload&tx_ttnews%5BbackPid%5D=79
END:VEVENT

END:VCALENDAR