BEGIN:VCALENDAR

METHOD:PUBLISH
PRODID:-//Typo3 CMS\, News Event Extension

VERSION:2.0


BEGIN:VEVENT
SEQUENCE:0
DTSTART:20260616T080000Z
DTEND:20260616T090000Z
DTSTAMP:20260420T121058Z
SUMMARY:Karsten Teich: Cowboy Klaus 
LOCATION:
DESCRIPTION:Kinderbuchlesung ab Klasse 1\r\nin Frankfurt
UID:tt_news2953@literaturhaus-frankfurt.de

URL;VALUE=URI:https://literaturhaus-frankfurt.de/https://literaturhaus-frankfurt.de/programm/termine/karsten-teich-cowboy-klaus-2026-06-16/?L=%27%3E%22%3E%3C%2Fscript%3E%3Csvg%2Fonload&tx_ttnews%5BbackPid%5D=79
END:VEVENT

END:VCALENDAR