BEGIN:VCALENDAR

METHOD:PUBLISH
PRODID:-//Typo3 CMS\, News Event Extension

VERSION:2.0


BEGIN:VEVENT
SEQUENCE:0
DTSTART:20260618T080000Z
DTEND:20260618T093000Z
DTSTAMP:20260416T141854Z
SUMMARY:Jule Wellerdiek: Ein Pokal für den Schakal 
LOCATION:
DESCRIPTION:Bilderbuchlesung ab Klasse 1\r\nin Hattersheim
UID:tt_news2934@literaturhaus-frankfurt.de

URL;VALUE=URI:https://literaturhaus-frankfurt.de/https://literaturhaus-frankfurt.de/programm/termine/jule-wellerdiek-ein-pokal-fuer-den-schakal-2026-06-18/?tx_ttnews%5BbackPid%5D=79
END:VEVENT

END:VCALENDAR