BEGIN:VCALENDAR

METHOD:PUBLISH
PRODID:-//Typo3 CMS\, News Event Extension

VERSION:2.0


BEGIN:VEVENT
SEQUENCE:0
DTSTART:20250627T070000Z
DTEND:20250627T080000Z
DTSTAMP:20250630T085618Z
SUMMARY:Jörg Bernardy: Die Möwe Vagabundus 
LOCATION:
DESCRIPTION:Kinderbuchlesung ab Klasse 3 \r\nin Frankfurt \r\nEintritt nach Anmeldung frei 
UID:tt_news2696@literaturhaus-frankfurt.de

URL;VALUE=URI:https://literaturhaus-frankfurt.de/https://literaturhaus-frankfurt.de/programm/termine/joerg-bernardy-die-moewe-vagabundus-2025-06-27/?tx_ttnews%5BbackPid%5D=79
END:VEVENT

END:VCALENDAR