BEGIN:VCALENDAR

METHOD:PUBLISH
PRODID:-//Typo3 CMS\, News Event Extension

VERSION:2.0


BEGIN:VEVENT
SEQUENCE:0
DTSTART:20250626T073000Z
DTEND:20250626T093000Z
DTSTAMP:20250627T093113Z
SUMMARY:Jörg Bernardy: Das längste Picknick der Welt 
LOCATION:
DESCRIPTION:Bilderbuchlesung ab Klasse 1\r\n
UID:tt_news2679@literaturhaus-frankfurt.de

URL;VALUE=URI:https://literaturhaus-frankfurt.de/https://literaturhaus-frankfurt.de/programm/termine/joerg-bernardy-das-laengste-picknick-der-welt-2025-06-26/?tx_ttnews%5BbackPid%5D=79
END:VEVENT

END:VCALENDAR