BEGIN:VCALENDAR

METHOD:PUBLISH
PRODID:-//Typo3 CMS\, News Event Extension

VERSION:2.0


BEGIN:VEVENT
SEQUENCE:0
DTSTART;VALUE=DATE:20260416
DTEND;VALUE=DATE:19700102
DTSTAMP:20260416T114431Z
SUMMARY:Isabel Pin: Die gelben Gummistiefel & Mein Freund\, der Pomiok 
LOCATION:
DESCRIPTION:Lesungspicknick für Kinder ab 5 Jahren\r\nin Wiesbaden\r\nEintritt frei
UID:tt_news2895@literaturhaus-frankfurt.de

URL;VALUE=URI:https://literaturhaus-frankfurt.de/https://literaturhaus-frankfurt.de/programm/termine/isabel-pin-die-gelben-gummistiefel-mein-freund-der-pomiok-2026-06-19/?L=%27%3E%22%3E%3C%2Fscript%3E%3Csvg%2Fonload&tx_ttnews%5BbackPid%5D=79
END:VEVENT

END:VCALENDAR