BEGIN:VCALENDAR

METHOD:PUBLISH
PRODID:-//Typo3 CMS\, News Event Extension

VERSION:2.0


BEGIN:VEVENT
SEQUENCE:0
DTSTART:20260528T090000Z
DTEND:20260528T103000Z
DTSTAMP:20260324T092539Z
SUMMARY:Gedankenflieger. Philosophieren mit Kindern: Ina Schmidt&nbsp\;
LOCATION:
DESCRIPTION:Workshops für 3. & 4. Klassen
UID:tt_news2833@literaturhaus-frankfurt.de

URL;VALUE=URI:https://literaturhaus-frankfurt.de/https://literaturhaus-frankfurt.de/programm/termine/gedankenflieger-philosophieren-mit-kindern-ina-schmidt-nbsp-2026-05-28/?tx_ttnews%5BbackPid%5D=79
END:VEVENT

END:VCALENDAR